BEGIN:VCALENDAR
VERSION:2.0
PRODID:http://www.heilig-rock-tage.de
BEGIN:VEVENT
UID:c2388e78-123c-11f1-8342-0242ac11002b-1776499200000-de
DTSTAMP:20260225T112559Z
DTSTART:20260418T080000Z
SUMMARY;LANGUAGE=de:kirche:mobil!
DESCRIPTION;LANGUAGE=de:Informationsstand
IMAGE;VALUE=URI;DISPLAY=BADGE;FMTTYPE=image/jpeg:http://www.heilig-rock-tage.dehttps://www.bistum-trier.de/export/sites/portal/news/archiv/.galleries/images/kirchemobil-1-dh.jpg
URL:http://www.heilig-rock-tage.de/programm/detail/kirchemobil-2026.04.18/
END:VEVENT
END:VCALENDAR
