BEGIN:VCALENDAR
VERSION:2.0
PRODID:http://www.heilig-rock-tage.de
BEGIN:VEVENT
UID:273004a0-1150-11f1-8342-0242ac11002b-1776499200000-de
DTSTAMP:20260224T071217Z
DTSTART:20260418T080000Z
SUMMARY;LANGUAGE=de:Inklusionsstand
DESCRIPTION;LANGUAGE=de:Das Arbeitsfeld Inklusion\, die Fachstelle für gebärdensprachliche Seelsorge sowie die Arbeitsstelle Medien für Blinde und Sehbehinderte im Bistum Trier laden Sie herzlich ein\, Inklusion zu erleben.
IMAGE;VALUE=URI;DISPLAY=BADGE;FMTTYPE=image/jpeg:http://www.heilig-rock-tage.de/export/sites/heilig-rock-tage/.galleries/bilder/IMG_2567.jpeg
URL:http://www.heilig-rock-tage.de/programm/detail/Inklusionsstand-2026.04.18/
END:VEVENT
END:VCALENDAR
